BEGIN:VCALENDAR
VERSION:2.0
PRODID:-//PAWS of PA - ECPv6.15.20//NONSGML v1.0//EN
CALSCALE:GREGORIAN
METHOD:PUBLISH
X-WR-CALNAME:PAWS of PA
X-ORIGINAL-URL:https://pawsofpa.org
X-WR-CALDESC:Events for PAWS of PA
REFRESH-INTERVAL;VALUE=DURATION:PT1H
X-Robots-Tag:noindex
X-PUBLISHED-TTL:PT1H
BEGIN:VTIMEZONE
TZID:America/New_York
BEGIN:DAYLIGHT
TZOFFSETFROM:-0500
TZOFFSETTO:-0400
TZNAME:EDT
DTSTART:20250309T070000
END:DAYLIGHT
BEGIN:STANDARD
TZOFFSETFROM:-0400
TZOFFSETTO:-0500
TZNAME:EST
DTSTART:20251102T060000
END:STANDARD
BEGIN:DAYLIGHT
TZOFFSETFROM:-0500
TZOFFSETTO:-0400
TZNAME:EDT
DTSTART:20260308T070000
END:DAYLIGHT
BEGIN:STANDARD
TZOFFSETFROM:-0400
TZOFFSETTO:-0500
TZNAME:EST
DTSTART:20261101T060000
END:STANDARD
BEGIN:DAYLIGHT
TZOFFSETFROM:-0500
TZOFFSETTO:-0400
TZNAME:EDT
DTSTART:20270314T070000
END:DAYLIGHT
BEGIN:STANDARD
TZOFFSETFROM:-0400
TZOFFSETTO:-0500
TZNAME:EST
DTSTART:20271107T060000
END:STANDARD
END:VTIMEZONE
BEGIN:VEVENT
DTSTART;TZID=America/New_York:20260323T000000
DTEND;TZID=America/New_York:20260329T235959
DTSTAMP:20260423T164850
CREATED:20260214T011208Z
LAST-MODIFIED:20260214T013330Z
UID:1423-1774224000-1774828799@pawsofpa.org
SUMMARY:National Adoption Week
DESCRIPTION:View our Adopatable Animals
URL:https://pawsofpa.org/event/national-adoption-week/
ATTACH;FMTTYPE=image/png:https://pawsofpa.org/wp-content/uploads/2026/02/March-NAW_USA_Partner_Toolkit_SOCIAL_1600x840_CAT.png
END:VEVENT
END:VCALENDAR