BEGIN:VCALENDAR
VERSION:2.0
PRODID:-//PAWS of PA - ECPv6.15.20//NONSGML v1.0//EN
CALSCALE:GREGORIAN
METHOD:PUBLISH
X-WR-CALNAME:PAWS of PA
X-ORIGINAL-URL:https://pawsofpa.org
X-WR-CALDESC:Events for PAWS of PA
REFRESH-INTERVAL;VALUE=DURATION:PT1H
X-Robots-Tag:noindex
X-PUBLISHED-TTL:PT1H
BEGIN:VTIMEZONE
TZID:UTC
BEGIN:STANDARD
TZOFFSETFROM:+0000
TZOFFSETTO:+0000
TZNAME:UTC
DTSTART:20210101T000000
END:STANDARD
END:VTIMEZONE
BEGIN:VEVENT
DTSTART;TZID=UTC:20221101T080000
DTEND;TZID=UTC:20221125T170000
DTSTAMP:20260425T082403
CREATED:20221101T045517Z
LAST-MODIFIED:20221106T205211Z
UID:881-1667289600-1669395600@pawsofpa.org
SUMMARY:Boozy Pie and Whoopie Pie Fundriaser
DESCRIPTION:It’s that sweet time of year!\nHere’s our Boozy Pie and Whoopie Pie fundraiser list this year from The Sweet Spot!\nThey’re amazing! Order yours today! Help us sell!\n\n\n\nReminder: these freeze really well so order extra. Picture this\, January and snowing\, you don’t wanna go to the store. Halloween candy was gone by 1st weekend in Nov. Holiday goodies gone by the stroke of NYE but that’s OK\, you’ve got frozen Boozy pies to thaw out and enjoy! That’s a sweet story.\n\n\nWe’ve partnered with Tabby Trappers so we can reach York county easily. Order from PAWS or TT it all goes to helping homeless cats.\n\n\nPAWS will have pick-up locations in Lebanon\, Palmyra\, Grantville\, and Mechanicsburg.
URL:https://pawsofpa.org/event/boozy-pie-and-whoopie-pie-fundriaser/
LOCATION:York County
ATTACH;FMTTYPE=image/jpeg:https://pawsofpa.org/wp-content/uploads/2022/11/pie-fundraiser.jpeg
END:VEVENT
END:VCALENDAR