BEGIN:VCALENDAR
VERSION:2.0
PRODID:-//PAWS of PA - ECPv6.15.20//NONSGML v1.0//EN
CALSCALE:GREGORIAN
METHOD:PUBLISH
X-ORIGINAL-URL:https://pawsofpa.org
X-WR-CALDESC:Events for PAWS of PA
REFRESH-INTERVAL;VALUE=DURATION:PT1H
X-Robots-Tag:noindex
X-PUBLISHED-TTL:PT1H
BEGIN:VTIMEZONE
TZID:America/New_York
BEGIN:DAYLIGHT
TZOFFSETFROM:-0500
TZOFFSETTO:-0400
TZNAME:EDT
DTSTART:20250309T070000
END:DAYLIGHT
BEGIN:STANDARD
TZOFFSETFROM:-0400
TZOFFSETTO:-0500
TZNAME:EST
DTSTART:20251102T060000
END:STANDARD
BEGIN:DAYLIGHT
TZOFFSETFROM:-0500
TZOFFSETTO:-0400
TZNAME:EDT
DTSTART:20260308T070000
END:DAYLIGHT
BEGIN:STANDARD
TZOFFSETFROM:-0400
TZOFFSETTO:-0500
TZNAME:EST
DTSTART:20261101T060000
END:STANDARD
BEGIN:DAYLIGHT
TZOFFSETFROM:-0500
TZOFFSETTO:-0400
TZNAME:EDT
DTSTART:20270314T070000
END:DAYLIGHT
BEGIN:STANDARD
TZOFFSETFROM:-0400
TZOFFSETTO:-0500
TZNAME:EST
DTSTART:20271107T060000
END:STANDARD
END:VTIMEZONE
BEGIN:VEVENT
DTSTART;TZID=America/New_York:20260323T000000
DTEND;TZID=America/New_York:20260329T235959
DTSTAMP:20260423T165405
CREATED:20260214T011208Z
LAST-MODIFIED:20260214T013330Z
UID:1423-1774224000-1774828799@pawsofpa.org
SUMMARY:National Adoption Week
DESCRIPTION:View our Adopatable Animals
URL:https://pawsofpa.org/event/national-adoption-week/
ATTACH;FMTTYPE=image/png:https://pawsofpa.org/wp-content/uploads/2026/02/March-NAW_USA_Partner_Toolkit_SOCIAL_1600x840_CAT.png
END:VEVENT
BEGIN:VEVENT
DTSTART;TZID=America/New_York:20260328T090000
DTEND;TZID=America/New_York:20260328T130000
DTSTAMP:20260423T165405
CREATED:20260214T005513Z
LAST-MODIFIED:20260214T005514Z
UID:1417-1774688400-1774702800@pawsofpa.org
SUMMARY:Pet Photos with the Easter Bunny
DESCRIPTION:
URL:https://pawsofpa.org/event/pet-photos-with-the-easter-bunny/
LOCATION:Hanoverdale Agway\, 486 Hershey Road\, Harrisburg\, Pennsylvania\, 17112\, United States
END:VEVENT
BEGIN:VEVENT
DTSTART;TZID=America/New_York:20260412T130000
DTEND;TZID=America/New_York:20260412T170000
DTSTAMP:20260423T165405
CREATED:20260214T004641Z
LAST-MODIFIED:20260214T005803Z
UID:1411-1775998800-1776013200@pawsofpa.org
SUMMARY:Spring Bingo
DESCRIPTION:Join us for the PAWS Bingo Fundraiser\, being held on Sunday\, April 12\, 2026 at the Lower Swatara Fire Department. \n\n\n\nDoors open at 11:30am and Bingo starts at 1:00pm \n\n\n\nPurchase Tickets Here
URL:https://pawsofpa.org/event/paws-spring-bingo/
LOCATION:Lower Swatara Fire Company\, 1350 Fulling Mill Road\, Middletown\, PA\, 17057\, United States
ATTACH;FMTTYPE=image/png:https://pawsofpa.org/wp-content/uploads/2025/04/PAWSBingoHeader.png
ORGANIZER;CN="PAWS of PA":MAILTO:paws@pawsofpa.org
END:VEVENT
BEGIN:VEVENT
DTSTART;TZID=America/New_York:20260522T080000
DTEND;TZID=America/New_York:20260523T170000
DTSTAMP:20260423T165405
CREATED:20260214T005955Z
LAST-MODIFIED:20260214T005955Z
UID:1421-1779436800-1779555600@pawsofpa.org
SUMMARY:Community Yard Sale
DESCRIPTION:
URL:https://pawsofpa.org/event/community-yard-sale-2/
LOCATION:PAWS\, 9803 Jonestown Road\, Grantville\, Pennsylvania\, 17028\, United States
END:VEVENT
BEGIN:VEVENT
DTSTART;TZID=America/New_York:20260720T000000
DTEND;TZID=America/New_York:20260726T235959
DTSTAMP:20260423T165405
CREATED:20260214T014631Z
LAST-MODIFIED:20260214T014958Z
UID:1448-1784505600-1785110399@pawsofpa.org
SUMMARY:National Adoption Week
DESCRIPTION:View our Adopatable Animals
URL:https://pawsofpa.org/event/national-adoption-week-2/
END:VEVENT
BEGIN:VEVENT
DTSTART;TZID=America/New_York:20261019T000000
DTEND;TZID=America/New_York:20261025T235959
DTSTAMP:20260423T165405
CREATED:20260214T014720Z
LAST-MODIFIED:20260214T014931Z
UID:1450-1792368000-1792972799@pawsofpa.org
SUMMARY:National Adoption Week
DESCRIPTION:View our Adopatable Animals
URL:https://pawsofpa.org/event/national-adoption-week-3/
END:VEVENT
BEGIN:VEVENT
DTSTART;TZID=America/New_York:20261205T090000
DTEND;TZID=America/New_York:20261205T150000
DTSTAMP:20260423T165405
CREATED:20260214T014129Z
LAST-MODIFIED:20260214T014130Z
UID:1444-1796461200-1796482800@pawsofpa.org
SUMMARY:Pet Photos with Santa
DESCRIPTION:
URL:https://pawsofpa.org/event/pet-photos-with-santa/
LOCATION:Hanoverdale Agway\, 486 Hershey Road\, Harrisburg\, Pennsylvania\, 17112\, United States
END:VEVENT
BEGIN:VEVENT
DTSTART;TZID=America/New_York:20261213T130000
DTEND;TZID=America/New_York:20261213T170000
DTSTAMP:20260423T165405
CREATED:20260214T014318Z
LAST-MODIFIED:20260214T014358Z
UID:1446-1797166800-1797181200@pawsofpa.org
SUMMARY:Fall Bingo
DESCRIPTION:Join us for the PAWS Bingo Fundraiser\, being held on Sunday\, December 13\, 2026 at the Lower Swatara Fire Department. Doors open at 11:30am and Bingo starts at 1:00pm
URL:https://pawsofpa.org/event/fall-bingo-2/
LOCATION:Lower Swatara Fire Company\, 1350 Fulling Mill Road\, Middletown\, PA\, 17057\, United States
ATTACH;FMTTYPE=image/png:https://pawsofpa.org/wp-content/uploads/2025/04/PAWSBingoHeader.png
END:VEVENT
END:VCALENDAR