BEGIN:VCALENDAR
VERSION:2.0
PRODID:-//PAWS of PA - ECPv6.15.20//NONSGML v1.0//EN
CALSCALE:GREGORIAN
METHOD:PUBLISH
X-WR-CALNAME:PAWS of PA
X-ORIGINAL-URL:https://pawsofpa.org
X-WR-CALDESC:Events for PAWS of PA
REFRESH-INTERVAL;VALUE=DURATION:PT1H
X-Robots-Tag:noindex
X-PUBLISHED-TTL:PT1H
BEGIN:VTIMEZONE
TZID:UTC
BEGIN:STANDARD
TZOFFSETFROM:+0000
TZOFFSETTO:+0000
TZNAME:UTC
DTSTART:20240101T000000
END:STANDARD
END:VTIMEZONE
BEGIN:VEVENT
DTSTART;TZID=UTC:20251206T090000
DTEND;TZID=UTC:20251206T150000
DTSTAMP:20260423T201632
CREATED:20250418T050410Z
LAST-MODIFIED:20250418T055321Z
UID:1288-1765011600-1765033200@pawsofpa.org
SUMMARY:Pet Photos with Santa
DESCRIPTION:
URL:https://pawsofpa.org/event/santa-photos/
LOCATION:Hanoverdale Agway\, 486 Hershey Road\, Harrisburg\, Pennsylvania\, 17112\, United States
END:VEVENT
END:VCALENDAR